BEGIN:VCALENDAR
VERSION:2.0
PRODID:-//wp-events-plugin.com//7.2.3.1//EN
BEGIN:VEVENT
UID:222@teamedia.co.jp
DTSTART;TZID=Asia/Tokyo:20191110T103000
DTEND;TZID=Asia/Tokyo:20191110T123000
DTSTAMP:20191101T031039Z
URL:https://www.teamedia.co.jp/events/basic-class-1-tokyo-20191110am/
SUMMARY:中国茶基礎講座 第１回「中国茶序論」（東京・11
 月10日AM）
DESCRIPTION:\n\n嗜好品としての上質な中国茶の世界を紹介
 し、\n”お店でお茶を選ぶことができ、自分で美味しく
 淹れられる”をゴールに、\n初心者の方でも無理なく中
 国茶の基礎を学ぶことができる講座が「中国茶基礎講
 座」です。\n\n第１回は「中国茶序論」として、中国茶
 の世界を形作る大きな枠組みをご紹介します。\n\nお茶
 は嗜好品といわれますが、ワインやコーヒーなどの他
 の嗜好飲料と比べると、今ひとつ整理されていないよ
 うに感じます。\nとくに従来、中国茶の入門とされる書
 籍や講座では、ややもすると伝聞調や真偽不明な伝説
 の類いが出てくることが多かったり、精神論的な内容
 になってしまうことも、多々あったように思われます
 。\n\n今回の講座では、そうした伝説や謂われのような
 部分は極力排除し、\n\n「お茶の香りと味わいの違いを
 生むものは何か？」\n\nというテーマについて、真正面
 から、科学的な視点で挑んでみたいと思います。\n\nキ
 ーワードとしては、他の嗜好飲料同様、製法と品種、
 そして産地といったところに集約されていくことにな
 るでしょう。\nその幅が広いのが中国茶の特徴でもあり
 ますので、実際に６種類のお茶を飲み比べていただき
 、お茶の香りと味わいの違いも体感いただきます。\n\n&
 nbsp\;\n\n＜日時＞　2019年11月10日(日)　10:30-12:30　（開場1
 0:15）\n\n＜会場＞　アクセア神保町会議室　5階　第3会
 議室\n東京都千代田区神田神保町2-13-1　西遊ビル5F\n東
 京メトロ・都営地下鉄　神保町駅より徒歩1分\n\n＜会費
 ＞　5\,000円　※当日申し受けます。一括前納割引の場
 合は、4\,500円となります。\n\n＜定員＞　18名　（現在
 の残席：[event]#_AVAILABLESPACES[/event] 席）\n★キャンセルポ
 リシー★\n\nお申し込み後、やむを得ない事情でキャン
 セル・振替される場合は、お早めにご連絡ください。\n
 直前や当日のキャンセル・振替については、以下のキ
 ャンセル料を銀行振込にて申し受けます。\n\n・開催3日
 前まで　無料\n・開催2日前～前日まで　受講料の50％\n
 ・当日のキャンセルまたは連絡なしのご欠席　受講料
 の100％\n\n※ご病気など、事情によっては上記のお支払
 いを免除する場合がございます。キャンセルの際は理
 由を添えて、お知らせください。\n\nまた、頻繁にキャ
 ンセルを繰り返される場合は、以後のお申し込みをお
 断りすることがございます。ご了承ください。\n&nbsp\;\n
 ★一括前納割引の利用について★\n\n一括前納割引は、
 ５回分の受講料を前もってお支払いいただくことで、
 １回当たりの受講料が500円割引となる制度です。\n初回
 参加の際に５回綴りの受講券をお渡しいたしますので
 、次回以降はそちらを提示ください。\n\n一括前納割引
 は、入金確認を行う都合上、講座開講日の２日前まで
 のお申し込みとなります。\n割引の利用をご希望の場合
 は、チケット券種にて「一括前納割引」を選択の上、
 ご予約ください。\n\n銀行振込の場合は、ご予約確認メ
 ールに記載しております、弊社指定のゆうちょ銀行口
 座に受講日の前日迄にお振り込み下さい。\n\nクレジッ
 トカードでの決済をご希望の場合は、備考欄に ”クレ
 ジットカード決済希望” とご記入ください。\n後日、
 弊社のスタッフが手動で「Square請求書」を発行し、メ
 ールにてお送りします。\nメールの内容に従い、受講日
 の前日迄にクレジットカード決済を行って下さい。\n\n
 銀行振込・クレジットカードのいずれの方法において
 も、前日迄に入金・決済が確認できなかった場合は、
 一般料金を適用させていただきますので、ご了承くだ
 さい。\n&nbsp\;
ATTACH;FMTTYPE=image/jpeg:https://www.teamedia.co.jp/wp-content/uploads/20
 19/10/basic_class.jpg
CATEGORIES:セミナー
LOCATION:アクセア神保町会議室\, 神田神保町2-13-1　西遊ビ
 ル\, 千代田区\, 東京都\, 日本
GEO:35.695456;139.75757
X-APPLE-STRUCTURED-LOCATION;VALUE=URI;X-ADDRESS=神田神保町2-13-1　西
 遊ビル\, 千代田区\, 東京都\, 日本;X-APPLE-RADIUS=100;X-TITLE=
 アクセア神保町会議室:geo:35.695456,139.75757
END:VEVENT
BEGIN:VTIMEZONE
TZID:Asia/Tokyo
X-LIC-LOCATION:Asia/Tokyo
BEGIN:STANDARD
DTSTART:20181110T103000
TZOFFSETFROM:+0900
TZOFFSETTO:+0900
TZNAME:JST
END:STANDARD
END:VTIMEZONE
END:VCALENDAR