BEGIN:VCALENDAR
VERSION:2.0
PRODID:-//wp-events-plugin.com//7.2.3.1//EN
BEGIN:VEVENT
UID:456@teamedia.co.jp
DTSTART:20260301T013000Z
DTEND:20260301T033000Z
DTSTAMP:20260118T072646Z
URL:https://www.teamedia.co.jp/events/basic-class-1-tokyo-20260301am/
SUMMARY:中国茶基礎講座 第１回「中国茶序論」（東京・3
 月1日AM）
DESCRIPTION:\n\n嗜好品としての上質な中国茶の世界を紹介
 し、\n”お店でお茶を選ぶことができ、自分で美味しく
 淹れられる”をゴールに、\n初心者の方でも無理なく中
 国茶の基礎を学ぶことができる講座が「中国茶基礎講
 座」です。\n\n第１回は「中国茶序論」として、中国茶
 の世界を形作る大きな枠組みをご紹介します。\n\nお茶
 は嗜好品といわれますが、ワインやコーヒーなどの他
 の嗜好飲料と比べると、今ひとつ整理されていないよ
 うに感じます。\nとくに従来、中国茶の入門とされる書
 籍や講座では、ややもすると伝聞調や真偽不明な伝説
 の類いが出てくることが多かったり、精神論的な内容
 になってしまうことも、多々あったように思われます
 。\n\n今回の講座では、そうした伝説や謂われのような
 部分は極力排除し、\n\n「お茶の香りと味わいの違いを
 生むものは何か？」\n\nというテーマについて、真正面
 から、科学的な視点で挑んでみたいと思います。\n\nキ
 ーワードとしては、他の嗜好飲料同様、製法と品種、
 そして産地といったところに集約されていくことにな
 るでしょう。\nその幅が広いのが中国茶の特徴でもあり
 ますので、実際に６種類のお茶を飲み比べていただき
 、お茶の香りと味わいの違いも体感いただきます。\n\n&
 nbsp\;\n\n＜日時＞　2026年3月1日(日)　10:30-12:30　（開場10:
 15）\n\n＜会場＞　中央区立産業会館　4階　第2集会室\n
 東京都中央区東日本橋2-22-4\n\n＜費用＞　6\,000円　※前
 日迄の銀行振込orクレジットカード決済。一括前納割引
 の場合は、5\,500円となります。\n\n＜定員＞　15名　（
 現在の残席：[event]#_AVAILABLESPACES[/event] 席）\n★キャンセ
 ルポリシー★\n\nお申し込み後、やむを得ない事情でキ
 ャンセル・振替される場合は、お早めにご連絡くださ
 い。\n直前や当日のキャンセル・振替については、以下
 のキャンセル料を銀行振込にて申し受けます。\n\n・開
 催3日前まで　無料\n・開催2日前～前日まで　受講料の5
 0％\n・当日のキャンセルまたは連絡なしのご欠席　受
 講料の100％\n\n※ご病気など、事情によっては上記のお
 支払いを免除する場合がございます。キャンセルの際
 は理由を添えて、お知らせください。\n\nまた、頻繁に
 キャンセルを繰り返される場合は、以後のお申し込み
 をお断りすることがございます。ご了承ください。\n&nb
 sp\;\n★一括前納割引の利用について★\n\n一括前納割引
 は、10回分の受講料を前もってお支払いいただくことで
 、１回当たりの受講料が割引となる制度です。\n初回参
 加の際に10回綴りの受講券をお渡しいたしますので、次
 回以降はそちらを提示ください。\n\n一括前納割引は、
 入金確認を行う都合上、講座開講日の２日前までのお
 申し込みとなります。\n割引の利用をご希望の場合は、
 チケット券種にて「一括前納割引」を選択の上、ご予
 約ください。\n\n銀行振込の場合は、ご予約確認メール
 に記載しております、弊社指定のゆうちょ銀行口座に
 受講日の前日迄にお振り込み下さい。\n\nクレジットカ
 ードでの決済をご希望の場合は、備考欄に ”クレジッ
 トカード決済希望” とご記入ください。\n後日、弊社
 のスタッフが手動で「Square請求書」を発行し、メール
 にてお送りします。\nメールの内容に従い、受講日の前
 日迄にクレジットカード決済を行って下さい。\n\n銀行
 振込・クレジットカードのいずれの方法においても、
 前日迄に入金・決済が確認できなかった場合は、一般
 料金を適用させていただきますので、ご了承ください
 。\n&nbsp\;
ATTACH;FMTTYPE=image/jpeg:https://www.teamedia.co.jp/wp-content/uploads/20
 20/07/basic_class800500.jpg
CATEGORIES:セミナー
LOCATION:【東京】中央区立産業会館\, 東日本橋2-22-4　4階\,
  中央区\, 東京都\, 103-0004\, 日本
GEO:35.6940176;139.78712919999998
X-APPLE-STRUCTURED-LOCATION;VALUE=URI;X-ADDRESS=東日本橋2-22-4　4階\,
  中央区\, 東京都\, 103-0004\, 日本;X-APPLE-RADIUS=100;X-TITLE=【
 東京】中央区立産業会館:geo:35.6940176,139.78712919999998
END:VEVENT
END:VCALENDAR