BEGIN:VCALENDAR
VERSION:2.0
PRODID:-//wp-events-plugin.com//7.2.3.1//EN
BEGIN:VEVENT
UID:465@teamedia.co.jp
DTSTART:20260705T050000Z
DTEND:20260705T070000Z
DTSTAMP:20260118T090815Z
URL:https://www.teamedia.co.jp/events/basic-class-10-tokyo-20260705pm/
SUMMARY:中国茶基礎講座 第10回「淹れ方の研究」（東京・7
 月5日PM）
DESCRIPTION:&nbsp\;\n\n&nbsp\;\n\n\n\n嗜好品としての上質な中国
 茶の世界を紹介し、\n”お店でお茶を選ぶことができ、
 自分で美味しく淹れられる”をゴールに、\n初心者の方
 でも無理なく中国茶の基礎を学ぶことができる講座が
 「中国茶基礎講座」です。\n\n最終回となる第10回は趣
 向を変え「淹れ方の研究」として、お茶の淹れ方の原
 理原則について、実習形式でご紹介します。\n\n中国茶
 の淹れ方に関しては、「茶藝」などの形で紹介されが
 ちです。\n動作の型などを重視されることも多いためか
 、ややもすると形式をなぞるだけになってしまうこと
 や精神論的な話に帰結してしまうこともあるようです
 。\nしかしながら、”淹れ方”をお茶に含まれる成分を
 適切に抽出するという観点に立てば、きわめて論理的
 かつ科学的な事象となります。\n\n今回は、これまでに
 学んできた製法の違いや茶の特徴を踏まえた上で、応
 用の利きやすいお茶の淹れ方の原理原則を体感しなが
 ら、学んでいきます。\n\n&nbsp\;\n\n＜日時＞　2026年7月5
 日(日)　14:00-16:00　（開場13:45）\n\n＜会場＞　中央区立
 産業会館　4階　第2集会室（※予定。変更となる可能性
 もございます）\n東京都中央区東日本橋2-22-4\n\n＜費用
 ＞　6\,000円　※前日迄の銀行振込orクレジットカード決
 済。一括前納割引の場合は、5\,500円となります。\n\n＜
 定員＞　15名　（現在の残席：[event]#_AVAILABLESPACES[/event] 
 席）\n★キャンセルポリシー★\n\nお申し込み後、やむ
 を得ない事情でキャンセル・振替される場合は、お早
 めにご連絡ください。\n直前や当日のキャンセル・振替
 については、以下のキャンセル料を銀行振込にて申し
 受けます。\n\n・開催3日前まで　無料\n・開催2日前～前
 日まで　受講料の50％\n・当日のキャンセルまたは連絡
 なしのご欠席　受講料の100％\n\n※ご病気など、事情に
 よっては上記のお支払いを免除する場合がございます
 。キャンセルの際は理由を添えて、お知らせください
 。\n\nまた、頻繁にキャンセルを繰り返される場合は、
 以後のお申し込みをお断りすることがございます。ご
 了承ください。\n&nbsp\;\n★一括前納割引の利用について
 ★\n\n一括前納割引は、10回分の受講料を前もってお支
 払いいただくことで、１回当たりの受講料が割引とな
 る制度です。\n初回参加の際に10回綴りの受講券をお渡
 しいたしますので、次回以降はそちらを提示ください
 。\n\n一括前納割引は、入金確認を行う都合上、講座開
 講日の２日前までのお申し込みとなります。\n割引の利
 用をご希望の場合は、チケット券種にて「一括前納割
 引」を選択の上、ご予約ください。\n\n銀行振込の場合
 は、ご予約確認メールに記載しております、弊社指定
 のゆうちょ銀行口座に受講日の前日迄にお振り込み下
 さい。\n\nクレジットカードでの決済をご希望の場合は
 、備考欄に ”クレジットカード決済希望” とご記入く
 ださい。\n後日、弊社のスタッフが手動で「Square請求書
 」を発行し、メールにてお送りします。\nメールの内容
 に従い、受講日の前日迄にクレジットカード決済を行
 って下さい。\n\n銀行振込・クレジットカードのいずれ
 の方法においても、前日迄に入金・決済が確認できな
 かった場合は、一般料金を適用させていただきますの
 で、ご了承ください。\n&nbsp\;
ATTACH;FMTTYPE=image/jpeg:https://www.teamedia.co.jp/wp-content/uploads/20
 20/06/paocha.jpg
CATEGORIES:セミナー
LOCATION:【東京】中央区立産業会館\, 東日本橋2-22-4　4階\,
  中央区\, 東京都\, 103-0004\, 日本
GEO:35.6940176;139.78712919999998
X-APPLE-STRUCTURED-LOCATION;VALUE=URI;X-ADDRESS=東日本橋2-22-4　4階\,
  中央区\, 東京都\, 103-0004\, 日本;X-APPLE-RADIUS=100;X-TITLE=【
 東京】中央区立産業会館:geo:35.6940176,139.78712919999998
END:VEVENT
END:VCALENDAR