BEGIN:VCALENDAR
VERSION:2.0
PRODID:-//wp-events-plugin.com//7.2.3.1//EN
BEGIN:VEVENT
UID:457@teamedia.co.jp
DTSTART:20260301T050000Z
DTEND:20260301T070000Z
DTSTAMP:20260118T072853Z
URL:https://www.teamedia.co.jp/events/basic-class-2-tokyo-20260301pm/
SUMMARY:中国茶基礎講座 第２回「緑茶」（東京・3月1日PM
 ）
DESCRIPTION:&nbsp\;\n\n\n\n嗜好品としての上質な中国茶の世界
 を紹介し、\n”お店でお茶を選ぶことができ、自分で美
 味しく淹れられる”をゴールに、\n初心者の方でも無理
 なく中国茶の基礎を学ぶことができる講座が「中国茶
 基礎講座」です。\n\n第２回は「緑茶」として、中国緑
 茶の世界をご紹介します。\n\n日本で見かけることは少
 ないのですが、中国でも最大の生産量（７割弱）と消
 費量を誇るお茶は緑茶です。\n歴史的な名茶や著名な名
 茶の多くは緑茶であり、緑茶を知ることが中国茶を知
 ることにも繋がります。\nまた、製法の面から見ても、
 茶の生葉のフレッシュさを活かす緑茶は、さまざまな
 製法の基礎になる工程が多く含まれているため、最初
 に学ぶべき茶類であるとも言えます。\n\n今回の講座で
 は、主要な中国緑茶を製法や品種の違いなどに着目し
 ながら、ご紹介していきます。\nそこでは、日本と中国
 のお茶に対するイメージの相違点なども明らかになる
 かと思います。\n\n中国緑茶の世界を知りたい方は是非
 ご参加ください。\n\n&nbsp\;\n\n＜日時＞　2026年3月1日(日)
 　14:00-16:00　（開場13:45）\n\n＜会場＞　中央区立産業会
 館　4階　第2集会室\n東京都中央区東日本橋2-22-4\n\n＜費
 用＞　6\,000円　※前日迄の銀行振込orクレジットカード
 決済。一括前納割引の場合は、5\,500円となります。\n\n
 ＜定員＞　15名　（現在の残席：[event]#_AVAILABLESPACES[/even
 t] 席）\n★キャンセルポリシー★\n\nお申し込み後、や
 むを得ない事情でキャンセル・振替される場合は、お
 早めにご連絡ください。\n直前や当日のキャンセル・振
 替については、以下のキャンセル料を銀行振込にて申
 し受けます。\n\n・開催3日前まで　無料\n・開催2日前～
 前日まで　受講料の50％\n・当日のキャンセルまたは連
 絡なしのご欠席　受講料の100％\n\n※ご病気など、事情
 によっては上記のお支払いを免除する場合がございま
 す。キャンセルの際は理由を添えて、お知らせくださ
 い。\n\nまた、頻繁にキャンセルを繰り返される場合は
 、以後のお申し込みをお断りすることがございます。
 ご了承ください。\n&nbsp\;\n★一括前納割引の利用につい
 て★\n\n一括前納割引は、10回分の受講料を前もってお
 支払いいただくことで、１回当たりの受講料が割引と
 なる制度です。\n初回参加の際に10回綴りの受講券をお
 渡しいたしますので、次回以降はそちらを提示くださ
 い。\n\n一括前納割引は、入金確認を行う都合上、講座
 開講日の２日前までのお申し込みとなります。\n割引の
 利用をご希望の場合は、チケット券種にて「一括前納
 割引」を選択の上、ご予約ください。\n\n銀行振込の場
 合は、ご予約確認メールに記載しております、弊社指
 定のゆうちょ銀行口座に受講日の前日迄にお振り込み
 下さい。\n\nクレジットカードでの決済をご希望の場合
 は、備考欄に ”クレジットカード決済希望” とご記入
 ください。\n後日、弊社のスタッフが手動で「Square請求
 書」を発行し、メールにてお送りします。\nメールの内
 容に従い、受講日の前日迄にクレジットカード決済を
 行って下さい。\n\n銀行振込・クレジットカードのいず
 れの方法においても、前日迄に入金・決済が確認でき
 なかった場合は、一般料金を適用させていただきます
 ので、ご了承ください。\n&nbsp\;
ATTACH;FMTTYPE=image/jpeg:https://www.teamedia.co.jp/wp-content/uploads/20
 19/10/basic_class_greentea.jpg
CATEGORIES:セミナー
LOCATION:【東京】中央区立産業会館\, 東日本橋2-22-4　4階\,
  中央区\, 東京都\, 103-0004\, 日本
GEO:35.6940176;139.78712919999998
X-APPLE-STRUCTURED-LOCATION;VALUE=URI;X-ADDRESS=東日本橋2-22-4　4階\,
  中央区\, 東京都\, 103-0004\, 日本;X-APPLE-RADIUS=100;X-TITLE=【
 東京】中央区立産業会館:geo:35.6940176,139.78712919999998
END:VEVENT
END:VCALENDAR