BEGIN:VCALENDAR
VERSION:2.0
PRODID:-//wp-events-plugin.com//7.2.3.1//EN
BEGIN:VEVENT
UID:459@teamedia.co.jp
DTSTART:20260405T050000Z
DTEND:20260405T070000Z
DTSTAMP:20260228T220634Z
URL:https://www.teamedia.co.jp/events/basic-class-4-tokyo-20260405pm/
SUMMARY:中国茶基礎講座 第４回「台湾烏龍茶」（東京・4
 月5日PM）
DESCRIPTION:&nbsp\;\n\n\n\n嗜好品としての上質な中国茶の世界
 を紹介し、\n”お店でお茶を選ぶことができ、自分で美
 味しく淹れられる”をゴールに、\n初心者の方でも無理
 なく中国茶の基礎を学ぶことができる講座が「中国茶
 基礎講座」です。\n\n第４回は「台湾烏龍茶」として、
 台湾烏龍茶の世界をご紹介します。\n\n台湾は烏龍茶の
 一大産地であり、さまざまなバリエーションのお茶が
 生産されています。\n日本には多くのお茶が入ってきて
 いることから、現地でもかなりマニアックなラインナ
 ップまで、日本国内で揃うようになっています。\nそれ
 だけに、非常に情報が過多になりがちで、今ひとつ整
 理しきれないという方が多いお茶でもあります。\n\n今
 回の講座では、主要な台湾烏龍茶を製法や品種の違い
 などに着目しながら、ご紹介していきます。\n台湾烏龍
 茶と大陸烏龍茶の相違点と共通点が、品種や製法の点
 からも明らかになるかと思います。\n\n台湾烏龍茶の世
 界を知りたい方は是非ご参加ください。\n\n&nbsp\;\n\n＜
 日時＞　2026年4月5日(日)　14:00-16:00　（開場13:45）\n\n＜
 会場＞　中央区立産業会館　4階　第4集会室\n東京都中
 央区東日本橋2-22-4\n\n＜費用＞　6\,000円　※前日迄の銀
 行振込orクレジットカード決済。一括前納割引の場合は
 、5\,500円となります。\n\n＜定員＞　15名　（現在の残
 席：[event]#_AVAILABLESPACES[/event] 席）\n★キャンセルポリシ
 ー★\n\nお申し込み後、やむを得ない事情でキャンセル
 ・振替される場合は、お早めにご連絡ください。\n直前
 や当日のキャンセル・振替については、以下のキャン
 セル料を銀行振込にて申し受けます。\n\n・開催3日前ま
 で　無料\n・開催2日前～前日まで　受講料の50％\n・当
 日のキャンセルまたは連絡なしのご欠席　受講料の100
 ％\n\n※ご病気など、事情によっては上記のお支払いを
 免除する場合がございます。キャンセルの際は理由を
 添えて、お知らせください。\n\nまた、頻繁にキャンセ
 ルを繰り返される場合は、以後のお申し込みをお断り
 することがございます。ご了承ください。\n&nbsp\;\n★一
 括前納割引の利用について★\n\n一括前納割引は、10回
 分の受講料を前もってお支払いいただくことで、１回
 当たりの受講料が割引となる制度です。\n初回参加の際
 に10回綴りの受講券をお渡しいたしますので、次回以降
 はそちらを提示ください。\n\n一括前納割引は、入金確
 認を行う都合上、講座開講日の２日前までのお申し込
 みとなります。\n割引の利用をご希望の場合は、チケッ
 ト券種にて「一括前納割引」を選択の上、ご予約くだ
 さい。\n\n銀行振込の場合は、ご予約確認メールに記載
 しております、弊社指定のゆうちょ銀行口座に受講日
 の前日迄にお振り込み下さい。\n\nクレジットカードで
 の決済をご希望の場合は、備考欄に ”クレジットカー
 ド決済希望” とご記入ください。\n後日、弊社のスタ
 ッフが手動で「Square請求書」を発行し、メールにてお
 送りします。\nメールの内容に従い、受講日の前日迄に
 クレジットカード決済を行って下さい。\n\n銀行振込・
 クレジットカードのいずれの方法においても、前日迄
 に入金・決済が確認できなかった場合は、一般料金を
 適用させていただきますので、ご了承ください。\n&nbsp\
 ;
ATTACH;FMTTYPE=image/jpeg:https://www.teamedia.co.jp/wp-content/uploads/20
 19/11/basic_class_taiwantea.jpg
CATEGORIES:セミナー
LOCATION:【東京】中央区立産業会館\, 東日本橋2-22-4　4階\,
  中央区\, 東京都\, 103-0004\, 日本
GEO:35.6940176;139.78712919999998
X-APPLE-STRUCTURED-LOCATION;VALUE=URI;X-ADDRESS=東日本橋2-22-4　4階\,
  中央区\, 東京都\, 103-0004\, 日本;X-APPLE-RADIUS=100;X-TITLE=【
 東京】中央区立産業会館:geo:35.6940176,139.78712919999998
END:VEVENT
END:VCALENDAR