BEGIN:VCALENDAR
VERSION:2.0
PRODID:-//wp-events-plugin.com//7.2.3.1//EN
BEGIN:VEVENT
UID:460@teamedia.co.jp
DTSTART:20260503T013000Z
DTEND:20260503T033000Z
DTSTAMP:20260319T045203Z
URL:https://www.teamedia.co.jp/events/basic-class-5-tokyo-20260503am/
SUMMARY:中国茶基礎講座 第５回「閩南（安渓）烏龍茶」（
 東京・5月3日AM）
DESCRIPTION:\n\n嗜好品としての上質な中国茶の世界を紹介
 し、\n”お店でお茶を選ぶことができ、自分で美味しく
 淹れられる”をゴールに、\n初心者の方でも無理なく中
 国茶の基礎を学ぶことができる講座が「中国茶基礎講
 座」です。\n\n第５回は「閩南（安渓）烏龍茶」として
 、福建省南部（閩南・びんなん）の烏龍茶の世界をご
 紹介します。\n\n福建省南部は烏龍茶の一大産地であり
 、安渓県で生産される安渓鉄観音は、その中でも代表
 的な銘柄です。\n今回は安渓鉄観音の様々なタイプと黄
 金桂に代表される品種の異なるお茶や少し珍しいお茶
 もご紹介します。\n\n福建省南部の烏龍茶の世界を知り
 たい方は是非ご参加ください。\n\n&nbsp\;\n\n＜日時＞　20
 26年5月3日(日)　10:30-12:30　（開場10:15）\n\n＜会場＞　中
 央区立産業会館　4階　第4集会室\n東京都中央区東日本
 橋2-22-4\n\n＜費用＞　6\,000円　※前日迄の銀行振込orク
 レジットカード決済。一括前納割引の場合は、5\,500円
 となります。\n\n＜定員＞　15名　（現在の残席：[event]#
 _AVAILABLESPACES[/event] 席）\n★キャンセルポリシー★\n\nお
 申し込み後、やむを得ない事情でキャンセル・振替さ
 れる場合は、お早めにご連絡ください。\n直前や当日の
 キャンセル・振替については、以下のキャンセル料を
 銀行振込にて申し受けます。\n\n・開催3日前まで　無料
 \n・開催2日前～前日まで　受講料の50％\n・当日のキャ
 ンセルまたは連絡なしのご欠席　受講料の100％\n\n※ご
 病気など、事情によっては上記のお支払いを免除する
 場合がございます。キャンセルの際は理由を添えて、
 お知らせください。\n\nまた、頻繁にキャンセルを繰り
 返される場合は、以後のお申し込みをお断りすること
 がございます。ご了承ください。\n&nbsp\;\n★一括前納割
 引の利用について★\n\n一括前納割引は、10回分の受講
 料を前もってお支払いいただくことで、１回当たりの
 受講料が割引となる制度です。\n初回参加の際に10回綴
 りの受講券をお渡しいたしますので、次回以降はそち
 らを提示ください。\n\n一括前納割引は、入金確認を行
 う都合上、講座開講日の２日前までのお申し込みとな
 ります。\n割引の利用をご希望の場合は、チケット券種
 にて「一括前納割引」を選択の上、ご予約ください。\n
 \n銀行振込の場合は、ご予約確認メールに記載しており
 ます、弊社指定のゆうちょ銀行口座に受講日の前日迄
 にお振り込み下さい。\n\nクレジットカードでの決済を
 ご希望の場合は、備考欄に ”クレジットカード決済希
 望” とご記入ください。\n後日、弊社のスタッフが手
 動で「Square請求書」を発行し、メールにてお送りしま
 す。\nメールの内容に従い、受講日の前日迄にクレジッ
 トカード決済を行って下さい。\n\n銀行振込・クレジッ
 トカードのいずれの方法においても、前日迄に入金・
 決済が確認できなかった場合は、一般料金を適用させ
 ていただきますので、ご了承ください。\n&nbsp\;
ATTACH;FMTTYPE=image/jpeg:https://www.teamedia.co.jp/wp-content/uploads/20
 19/12/basic_class_anxi.jpg
CATEGORIES:セミナー
LOCATION:【東京】中央区立産業会館\, 東日本橋2-22-4　4階\,
  中央区\, 東京都\, 103-0004\, 日本
GEO:35.6940176;139.78712919999998
X-APPLE-STRUCTURED-LOCATION;VALUE=URI;X-ADDRESS=東日本橋2-22-4　4階\,
  中央区\, 東京都\, 103-0004\, 日本;X-APPLE-RADIUS=100;X-TITLE=【
 東京】中央区立産業会館:geo:35.6940176,139.78712919999998
END:VEVENT
END:VCALENDAR