BEGIN:VCALENDAR
VERSION:2.0
PRODID:-//wp-events-plugin.com//7.2.3.1//EN
BEGIN:VEVENT
UID:461@teamedia.co.jp
DTSTART:20260503T050000Z
DTEND:20260503T070000Z
DTSTAMP:20260319T045223Z
URL:https://www.teamedia.co.jp/events/basic-class-6-tokyo-20260503pm/
SUMMARY:中国茶基礎講座 第６回「閩北（武夷）烏龍茶」（
 東京・5月3日PM）
DESCRIPTION:&nbsp\;\n\n\n\n嗜好品としての上質な中国茶の世界
 を紹介し、\n”お店でお茶を選ぶことができ、自分で美
 味しく淹れられる”をゴールに、\n初心者の方でも無理
 なく中国茶の基礎を学ぶことができる講座が「中国茶
 基礎講座」です。\n\n第６回は「閩北（武夷）烏龍茶」
 として、福建省北部（閩北・びんほく）の烏龍茶の世
 界をご紹介します。\n\n福建省北部も烏龍茶の一大産地
 であり、武夷山市で生産される武夷岩茶は、その中で
 も代表的な銘柄です。\n今回は武夷岩茶の様々なタイプ
 ・品種のお茶をご紹介し、武夷岩茶にフォーカスして
 いる回です。\n\n福建省北部・武夷山の烏龍茶の世界を
 知りたい方は是非ご参加ください。\n\n&nbsp\;\n\n＜日時
 ＞　2026年5月3日(日)　14:00-16:00　（開場13:45）\n\n＜会場
 ＞　中央区立産業会館　4階　第4集会室\n東京都中央区
 東日本橋2-22-4\n\n＜費用＞　6\,000円　※前日迄の銀行振
 込orクレジットカード決済。一括前納割引の場合は、5\,
 500円となります。\n\n＜定員＞　15名　（現在の残席：[e
 vent]#_AVAILABLESPACES[/event] 席）\n★キャンセルポリシー★\n
 \nお申し込み後、やむを得ない事情でキャンセル・振替
 される場合は、お早めにご連絡ください。\n直前や当日
 のキャンセル・振替については、以下のキャンセル料
 を銀行振込にて申し受けます。\n\n・開催3日前まで　無
 料\n・開催2日前～前日まで　受講料の50％\n・当日のキ
 ャンセルまたは連絡なしのご欠席　受講料の100％\n\n※
 ご病気など、事情によっては上記のお支払いを免除す
 る場合がございます。キャンセルの際は理由を添えて
 、お知らせください。\n\nまた、頻繁にキャンセルを繰
 り返される場合は、以後のお申し込みをお断りするこ
 とがございます。ご了承ください。\n&nbsp\;\n★一括前納
 割引の利用について★\n\n一括前納割引は、10回分の受
 講料を前もってお支払いいただくことで、１回当たり
 の受講料が割引となる制度です。\n初回参加の際に10回
 綴りの受講券をお渡しいたしますので、次回以降はそ
 ちらを提示ください。\n\n一括前納割引は、入金確認を
 行う都合上、講座開講日の２日前までのお申し込みと
 なります。\n割引の利用をご希望の場合は、チケット券
 種にて「一括前納割引」を選択の上、ご予約ください
 。\n\n銀行振込の場合は、ご予約確認メールに記載して
 おります、弊社指定のゆうちょ銀行口座に受講日の前
 日迄にお振り込み下さい。\n\nクレジットカードでの決
 済をご希望の場合は、備考欄に ”クレジットカード決
 済希望” とご記入ください。\n後日、弊社のスタッフ
 が手動で「Square請求書」を発行し、メールにてお送り
 します。\nメールの内容に従い、受講日の前日迄にクレ
 ジットカード決済を行って下さい。\n\n銀行振込・クレ
 ジットカードのいずれの方法においても、前日迄に入
 金・決済が確認できなかった場合は、一般料金を適用
 させていただきますので、ご了承ください。\n&nbsp\;
ATTACH;FMTTYPE=image/jpeg:https://www.teamedia.co.jp/wp-content/uploads/20
 20/01/basic_class_wuyi.jpg
CATEGORIES:セミナー
LOCATION:【東京】中央区立産業会館\, 東日本橋2-22-4　4階\,
  中央区\, 東京都\, 103-0004\, 日本
GEO:35.6940176;139.78712919999998
X-APPLE-STRUCTURED-LOCATION;VALUE=URI;X-ADDRESS=東日本橋2-22-4　4階\,
  中央区\, 東京都\, 103-0004\, 日本;X-APPLE-RADIUS=100;X-TITLE=【
 東京】中央区立産業会館:geo:35.6940176,139.78712919999998
END:VEVENT
END:VCALENDAR