BEGIN:VCALENDAR
VERSION:2.0
PRODID:-//wp-events-plugin.com//7.2.3.1//EN
BEGIN:VEVENT
UID:463@teamedia.co.jp
DTSTART:20260614T050000Z
DTEND:20260614T070000Z
DTSTAMP:20260319T051527Z
URL:https://www.teamedia.co.jp/events/basic-class-8-tokyo-20260531pm/
SUMMARY:中国茶基礎講座 第８回「白茶・黄茶」（東京・6
 月14日PM）
DESCRIPTION:\n\n嗜好品としての上質な中国茶の世界を紹介
 し、\n”お店でお茶を選ぶことができ、自分で美味しく
 淹れられる”をゴールに、\n初心者の方でも無理なく中
 国茶の基礎を学ぶことができる講座が「中国茶基礎講
 座」です。\n\n第８回は「白茶・黄茶」として、中国茶
 のなかでも生産量が少ない、稀少な白茶と黄茶の世界
 をご紹介します。\n\n白茶は福建省などの一部に生産地
 が限られていたお茶ですが、近年、”老白茶”のブー
 ムなどから生産量が急激に増加してきているお茶です
 。\nその独特の製法や近年、白茶の流行を牽引している
 緊圧白茶などについてもご紹介します。\n\n黄茶は生産
 工程の複雑さや独特の味わいから、生産量が減ってい
 たお茶でしたが、その稀少さが再び注目を集めていま
 す。\nきちんとした製法の黄茶は、一般的に認識されて
 いる籠もったような香りとは一線を画すものです。\n今
 回は製法的な黄茶のみならず、近年ブーム化している
 品種的な黄茶（黄化品種を用いた緑茶）についてもご
 紹介いたします。\n\n白茶と黄茶の世界を知りたい方は
 是非ご参加ください。\n\n&nbsp\;\n\n＜日時＞　2026年6月14
 日(日)　14:00-16:00　（開場13:45）　※5月31日より日程変
 更\n\n＜会場＞　中央区立産業会館　4階　第2集会室（
 ※予定。変更となる可能性もございます）\n東京都中央
 区東日本橋2-22-4\n\n＜費用＞　6\,000円　※前日迄の銀行
 振込orクレジットカード決済。一括前納割引の場合は、
 5\,500円となります。\n\n＜定員＞　15名　（現在の残席
 ：[event]#_AVAILABLESPACES[/event] 席）\n★キャンセルポリシー
 ★\n\nお申し込み後、やむを得ない事情でキャンセル・
 振替される場合は、お早めにご連絡ください。\n直前や
 当日のキャンセル・振替については、以下のキャンセ
 ル料を銀行振込にて申し受けます。\n\n・開催3日前まで
 　無料\n・開催2日前～前日まで　受講料の50％\n・当日
 のキャンセルまたは連絡なしのご欠席　受講料の100％\n
 \n※ご病気など、事情によっては上記のお支払いを免除
 する場合がございます。キャンセルの際は理由を添え
 て、お知らせください。\n\nまた、頻繁にキャンセルを
 繰り返される場合は、以後のお申し込みをお断りする
 ことがございます。ご了承ください。\n&nbsp\;\n★一括前
 納割引の利用について★\n\n一括前納割引は、10回分の
 受講料を前もってお支払いいただくことで、１回当た
 りの受講料が割引となる制度です。\n初回参加の際に10
 回綴りの受講券をお渡しいたしますので、次回以降は
 そちらを提示ください。\n\n一括前納割引は、入金確認
 を行う都合上、講座開講日の２日前までのお申し込み
 となります。\n割引の利用をご希望の場合は、チケット
 券種にて「一括前納割引」を選択の上、ご予約くださ
 い。\n\n銀行振込の場合は、ご予約確認メールに記載し
 ております、弊社指定のゆうちょ銀行口座に受講日の
 前日迄にお振り込み下さい。\n\nクレジットカードでの
 決済をご希望の場合は、備考欄に ”クレジットカード
 決済希望” とご記入ください。\n後日、弊社のスタッ
 フが手動で「Square請求書」を発行し、メールにてお送
 りします。\nメールの内容に従い、受講日の前日迄にク
 レジットカード決済を行って下さい。\n\n銀行振込・ク
 レジットカードのいずれの方法においても、前日迄に
 入金・決済が確認できなかった場合は、一般料金を適
 用させていただきますので、ご了承ください。\n&nbsp\;
ATTACH;FMTTYPE=image/jpeg:https://www.teamedia.co.jp/wp-content/uploads/20
 20/03/white-yellow-1200.jpg
CATEGORIES:セミナー
LOCATION:【東京】中央区立産業会館\, 東日本橋2-22-4　4階\,
  中央区\, 東京都\, 103-0004\, 日本
GEO:35.6940176;139.78712919999998
X-APPLE-STRUCTURED-LOCATION;VALUE=URI;X-ADDRESS=東日本橋2-22-4　4階\,
  中央区\, 東京都\, 103-0004\, 日本;X-APPLE-RADIUS=100;X-TITLE=【
 東京】中央区立産業会館:geo:35.6940176,139.78712919999998
END:VEVENT
END:VCALENDAR