BEGIN:VCALENDAR
VERSION:2.0
PRODID:-//wp-events-plugin.com//7.2.3.1//EN
BEGIN:VEVENT
UID:464@teamedia.co.jp
DTSTART:20260705T013000Z
DTEND:20260705T033000Z
DTSTAMP:20260118T090535Z
URL:https://www.teamedia.co.jp/events/basic-class-9-tokyo-20260705am/
SUMMARY:中国茶基礎講座 第９回「黒茶」（東京・7月5日AM
 ）
DESCRIPTION:\n\n嗜好品としての上質な中国茶の世界を紹介
 し、\n”お店でお茶を選ぶことができ、自分で美味しく
 淹れられる”をゴールに、\n初心者の方でも無理なく中
 国茶の基礎を学ぶことができる講座が「中国茶基礎講
 座」です。\n\n第９回は「黒茶」をご紹介します。\n\n黒
 茶は、長らく少数民族向けの日常茶として飲まれてき
 た茶類ですが、近年、その健康に与える機能性や”寝
 かせれば寝かせるほど良くなる”と言われる収蔵性の
 観点から、生産量が伸びているお茶でもあります。\nし
 かしながら、黒茶は少数民族政策にも繋がる戦略物資
 であったことから、その製法などについてはベールに
 包まれていた部分が多く、日本でも曲解されて伝わっ
 ていることも多いお茶でもあります。\n\n中国の茶葉生
 産が急激に伸びた、2000年以降には、黒茶もさまざまな
 自由化政策が採られ、かつての様相は様変わりしてい
 ます。\n現在の黒茶の世界を知りたい方は是非ご参加く
 ださい。\n\n&nbsp\;\n\n＜日時＞　2026年7月5日(日)　10:30-12:
 30　（開場10:15）\n\n＜会場＞　中央区立産業会館　4階
 　第2集会室（※予定。変更となる可能性もございます
 ）\n東京都中央区東日本橋2-22-4\n\n＜費用＞　6\,000円　
 ※前日迄の銀行振込orクレジットカード決済。一括前納
 割引の場合は、5\,500円となります。\n\n＜定員＞　15名
 　（現在の残席：[event]#_AVAILABLESPACES[/event] 席）\n★キャ
 ンセルポリシー★\n\nお申し込み後、やむを得ない事情
 でキャンセル・振替される場合は、お早めにご連絡く
 ださい。\n直前や当日のキャンセル・振替については、
 以下のキャンセル料を銀行振込にて申し受けます。\n\n
 ・開催3日前まで　無料\n・開催2日前～前日まで　受講
 料の50％\n・当日のキャンセルまたは連絡なしのご欠席
 　受講料の100％\n\n※ご病気など、事情によっては上記
 のお支払いを免除する場合がございます。キャンセル
 の際は理由を添えて、お知らせください。\n\nまた、頻
 繁にキャンセルを繰り返される場合は、以後のお申し
 込みをお断りすることがございます。ご了承ください
 。\n&nbsp\;\n★一括前納割引の利用について★\n\n一括前
 納割引は、10回分の受講料を前もってお支払いいただく
 ことで、１回当たりの受講料が割引となる制度です。\n
 初回参加の際に10回綴りの受講券をお渡しいたしますの
 で、次回以降はそちらを提示ください。\n\n一括前納割
 引は、入金確認を行う都合上、講座開講日の２日前ま
 でのお申し込みとなります。\n割引の利用をご希望の場
 合は、チケット券種にて「一括前納割引」を選択の上
 、ご予約ください。\n\n銀行振込の場合は、ご予約確認
 メールに記載しております、弊社指定のゆうちょ銀行
 口座に受講日の前日迄にお振り込み下さい。\n\nクレジ
 ットカードでの決済をご希望の場合は、備考欄に ”ク
 レジットカード決済希望” とご記入ください。\n後日
 、弊社のスタッフが手動で「Square請求書」を発行し、
 メールにてお送りします。\nメールの内容に従い、受講
 日の前日迄にクレジットカード決済を行って下さい。\n
 \n銀行振込・クレジットカードのいずれの方法において
 も、前日迄に入金・決済が確認できなかった場合は、
 一般料金を適用させていただきますので、ご了承くだ
 さい。\n&nbsp\;
ATTACH;FMTTYPE=image/jpeg:https://www.teamedia.co.jp/wp-content/uploads/20
 20/05/darktea.jpg
CATEGORIES:セミナー
LOCATION:【東京】中央区立産業会館\, 東日本橋2-22-4　4階\,
  中央区\, 東京都\, 103-0004\, 日本
GEO:35.6940176;139.78712919999998
X-APPLE-STRUCTURED-LOCATION;VALUE=URI;X-ADDRESS=東日本橋2-22-4　4階\,
  中央区\, 東京都\, 103-0004\, 日本;X-APPLE-RADIUS=100;X-TITLE=【
 東京】中央区立産業会館:geo:35.6940176,139.78712919999998
END:VEVENT
END:VCALENDAR