BEGIN:VCALENDAR
VERSION:2.0
PRODID:-//wp-events-plugin.com//7.2.3.1//EN
BEGIN:VEVENT
UID:452@teamedia.co.jp
DTSTART:20260517T040000Z
DTEND:20260517T060000Z
DTSTAMP:20260216T004807Z
URL:https://www.teamedia.co.jp/events/basic-small-group-class-7-tokyo-2026
 0517pm/
SUMMARY:中国茶基礎講座・特別講座 第７回「広東（単叢）
 烏龍茶」（東京・5月17日PM）
DESCRIPTION:\n\n嗜好品としての上質な中国茶の世界を紹介
 し、\n”お店でお茶を選ぶことができ、自分で美味しく
 淹れられる”をゴールに、\n初心者の方でも無理なく中
 国茶の基礎を学ぶことができる講座が「中国茶基礎講
 座」です。\n\n第７回は「広東（単叢）烏龍茶」として
 、広東省東部で生産される鳳凰単叢などの単叢烏龍茶
 の世界をご紹介します。\n\n広東省東部の潮州市・梅州
 市も烏龍茶の一大産地であり、潮州市で生産される鳳
 凰単叢は、その中でも代表的な銘柄です。\n今回は鳳凰
 単叢の様々なタイプ・品種のお茶をご紹介し、鳳凰単
 叢にフォーカスしている回です。\n\n鳳凰単叢の世界を
 知りたい方は是非ご参加ください。\n\n&nbsp\;\n\n＜日時
 ＞　2026年5月17日(日)　13:00-15:00　（開場12:50）\n\n＜会場
 ＞　虫二\n東京都新宿区高田馬場2-14-5\nJR・西武線　高
 田馬場駅早稲田口より徒歩5分\n東京メトロ・東西線　
 高田馬場駅6番出口より徒歩2分\n\n\n＜費用＞　6\,600円　
 ※前日迄の銀行振込orクレジットカード決済\n\n＜定員
 ＞　8名　（現在の残席：[event]#_AVAILABLESPACES[/event] 席）
ATTACH;FMTTYPE=image/jpeg:https://www.teamedia.co.jp/wp-content/uploads/20
 20/02/basic_class_dancong.jpg
CATEGORIES:セミナー
LOCATION:【東京】虫二（ちゅうじ）\, 高田馬場２丁目１４
 −５\, 新宿区\, 東京都\, 169-0075\, 日本
GEO:35.713243;139.706359
X-APPLE-STRUCTURED-LOCATION;VALUE=URI;X-ADDRESS=高田馬場２丁目１４
 −５\, 新宿区\, 東京都\, 169-0075\, 日本;X-APPLE-RADIUS=100;X-TI
 TLE=【東京】虫二（ちゅうじ）:geo:35.713243,139.706359
END:VEVENT
END:VCALENDAR