BEGIN:VCALENDAR
VERSION:2.0
PRODID:-//wp-events-plugin.com//7.2.3.1//EN
BEGIN:VEVENT
UID:453@teamedia.co.jp
DTSTART:20260517T062000Z
DTEND:20260517T082000Z
DTSTAMP:20260216T004848Z
URL:https://www.teamedia.co.jp/events/basic-small-group-class-8-tokyo-2026
 0517pm/
SUMMARY:中国茶基礎講座・特別講座 第８回「白茶・黄茶」
 （東京・5月17日PM）
DESCRIPTION:\n\n嗜好品としての上質な中国茶の世界を紹介
 し、\n”お店でお茶を選ぶことができ、自分で美味しく
 淹れられる”をゴールに、\n初心者の方でも無理なく中
 国茶の基礎を学ぶことができる講座が「中国茶基礎講
 座」です。\n\n第８回は「白茶・黄茶」として、中国茶
 のなかでも生産量が少ない、稀少な白茶と黄茶の世界
 をご紹介します。\n\n白茶は福建省などの一部に生産地
 が限られていたお茶ですが、近年、”老白茶”のブー
 ムなどから生産量が急激に増加してきているお茶です
 。\nその独特の製法や近年、白茶の流行を牽引している
 緊圧白茶などについてもご紹介します。\n\n黄茶は生産
 工程の複雑さや独特の味わいから、生産量が減ってい
 たお茶でしたが、その稀少さが再び注目を集めていま
 す。\nきちんとした製法の黄茶は、一般的に認識されて
 いる籠もったような香りとは一線を画すものです。\n今
 回は製法的な黄茶のみならず、近年ブーム化している
 品種的な黄茶（黄化品種を用いた緑茶）についてもご
 紹介いたします。\n\n白茶と黄茶の世界を知りたい方は
 是非ご参加ください。\n\n&nbsp\;\n\n＜日時＞　2026年5月17
 日(日)　15:30-17:30　（開場15:20）\n\n＜会場＞　虫二\n東
 京都新宿区高田馬場2-14-5\nJR・西武線　高田馬場駅早稲
 田口より徒歩5分\n東京メトロ・東西線　高田馬場駅6番
 出口より徒歩2分\n\n\n＜費用＞　6\,600円　※前日迄の銀
 行振込orクレジットカード決済\n\n＜定員＞　8名　（現
 在の残席：[event]#_AVAILABLESPACES[/event] 席）
ATTACH;FMTTYPE=image/jpeg:https://www.teamedia.co.jp/wp-content/uploads/20
 20/03/white-yellow-1200.jpg
CATEGORIES:セミナー
LOCATION:【東京】虫二（ちゅうじ）\, 高田馬場２丁目１４
 −５\, 新宿区\, 東京都\, 169-0075\, 日本
GEO:35.713243;139.706359
X-APPLE-STRUCTURED-LOCATION;VALUE=URI;X-ADDRESS=高田馬場２丁目１４
 −５\, 新宿区\, 東京都\, 169-0075\, 日本;X-APPLE-RADIUS=100;X-TI
 TLE=【東京】虫二（ちゅうじ）:geo:35.713243,139.706359
END:VEVENT
END:VCALENDAR