BEGIN:VCALENDAR
VERSION:2.0
PRODID:-//wp-events-plugin.com//7.2.3.1//EN
BEGIN:VEVENT
UID:454@teamedia.co.jp
DTSTART:20260621T040000Z
DTEND:20260621T060000Z
DTSTAMP:20260226T065215Z
URL:https://www.teamedia.co.jp/events/basic-small-group-class-9-tokyo-2026
 0621pm/
SUMMARY:中国茶基礎講座・特別講座 第９回「黒茶」（東京
 ・6月21日PM）
DESCRIPTION:\n\n嗜好品としての上質な中国茶の世界を紹介
 し、\n”お店でお茶を選ぶことができ、自分で美味しく
 淹れられる”をゴールに、\n初心者の方でも無理なく中
 国茶の基礎を学ぶことができる講座が「中国茶基礎講
 座」です。\n\n第９回は「黒茶」をご紹介します。\n\n黒
 茶は、長らく少数民族向けの日常茶として飲まれてき
 た茶類ですが、近年、その健康に与える機能性や”寝
 かせれば寝かせるほど良くなる”と言われる収蔵性の
 観点から、生産量が伸びているお茶でもあります。\nし
 かしながら、黒茶は少数民族政策にも繋がる戦略物資
 であったことから、その製法などについてはベールに
 包まれていた部分が多く、日本でも曲解されて伝わっ
 ていることも多いお茶でもあります。\n\n中国の茶葉生
 産が急激に伸びた、2000年以降には、黒茶もさまざまな
 自由化政策が採られ、かつての様相は様変わりしてい
 ます。\n現在の黒茶の世界を知りたい方は是非ご参加く
 ださい。\n\n&nbsp\;\n\n＜日時＞　2026年6月21日(日)　13:00-15
 :00　（開場12:50）\n\n＜会場＞　虫二\n東京都新宿区高田
 馬場2-14-5\nJR・西武線　高田馬場駅早稲田口より徒歩5分
 \n東京メトロ・東西線　高田馬場駅6番出口より徒歩2分\
 n\n\n＜費用＞　6\,600円　※前日迄の銀行振込orクレジッ
 トカード決済\n\n＜定員＞　8名　（現在の残席：[event]#_
 AVAILABLESPACES[/event] 席）
ATTACH;FMTTYPE=image/jpeg:https://www.teamedia.co.jp/wp-content/uploads/20
 20/05/darktea.jpg
CATEGORIES:セミナー
LOCATION:【東京】虫二（ちゅうじ）\, 高田馬場２丁目１４
 −５\, 新宿区\, 東京都\, 169-0075\, 日本
GEO:35.713243;139.706359
X-APPLE-STRUCTURED-LOCATION;VALUE=URI;X-ADDRESS=高田馬場２丁目１４
 −５\, 新宿区\, 東京都\, 169-0075\, 日本;X-APPLE-RADIUS=100;X-TI
 TLE=【東京】虫二（ちゅうじ）:geo:35.713243,139.706359
END:VEVENT
END:VCALENDAR