BEGIN:VCALENDAR
VERSION:2.0
PRODID:-//wp-events-plugin.com//7.2.3.1//EN
BEGIN:VEVENT
UID:122@teamedia.co.jp
DTSTART;TZID=Asia/Tokyo:20181110T140000
DTEND;TZID=Asia/Tokyo:20181110T160000
DTSTAMP:20180903T063936Z
URL:https://www.teamedia.co.jp/events/china-standard-6-osaka-181110-pm/
SUMMARY:【「標準」を読む】第６回：黒茶の標準（大阪・1
 1月10日PM）
DESCRIPTION:セミナーシリーズ【「標準」を読む】\nティー
 メディアコーポレーションでは、セミナーシリーズ【
 「標準」を読む】を開催しています。\n\nこのセミナー
 シリーズでは、現在、中国で急ピッチに整備が進んで
 いる、お茶に関わる「標準（标准）」を紹介しながら
 、お茶を読み解いていきます。\n\n\n\n&nbsp\;\n第６回は、
 黒茶の標準\nセミナーシリーズの第２回以降は、実際に
 お茶を飲みすすめながら、標準での定義や製法をご紹
 介しています。\n\n一連のシリーズ最終回となる第６回
 は「黒茶」をとりあげます。\n\n黒茶は、伝統的に中国
 周辺の国家や少数民族向けに提供される、辺銷茶（辺
 茶）のイメージが強い茶類でした。\nしかし、2006年頃
 にピークを迎えたプーアル茶バブルなどを通じて、良
 くも悪くも黒茶に対する、消費者の認知度と理解度は
 高まりました。\n\nそうした中で2010年の上海万博を一つ
 の契機として、伝統的な黒茶の産地が国内の消費者に
 向けたPRを強化するとともに、嗜好品として味わえるレ
 ベルの高級黒茶の開発が進んでいます。\nその結果、黒
 茶は現在の中国の茶業界でも急成長を遂げている茶類
 として、急速に注目を集めるようになってきています
 。\n\n今回のセミナーでは、こうした黒茶にまつわる昨
 今の事情をご紹介しながら、「標準」をもとにした黒
 茶の定義を紐解いていきます。\n併せてプーアル茶、安
 化黒茶を代表とした主要な黒茶をテイスティングして
 いきます。\n\n黒茶の製法の一部は中国の国家機密とさ
 れていることから、日本の市場においては、非常に曖
 昧な情報に翻弄されている面もあります。\n今回の資料
 ・お話・テイスティングを通じて、少しでも知識・情
 報の整理ができればと思います。\n\n&nbsp\;\n\n＜日時＞
 　2018年11月10日(土)　14:00-16:00　（開場13:45）\n\n\n＜会場
 ＞　アクセア本町会議室　第２会議室　大阪市中央区
 備後町3－6－2 大雅ビル5F\n地下鉄御堂筋線・本町駅１番
 出口より徒歩１分\n\n＜会費＞　4\,000円　※当日申し受
 けます。\n\n＜定員＞　12名　（現在の残席：[event]#_AVAIL
 ABLESPACES[/event] 席）\n\n&nbsp\;
ATTACH;FMTTYPE=image/jpeg:https://www.teamedia.co.jp/wp-content/uploads/20
 18/03/eyecatch.jpg
CATEGORIES:セミナー
LOCATION:【大阪】アクセア本町会議室\, 備後町3－6－2 大
 雅ビル5F \, 大阪市中央区\, 大阪府\, 日本
GEO:34.6848894;135.50105459999997
X-APPLE-STRUCTURED-LOCATION;VALUE=URI;X-ADDRESS=備後町3－6－2 大雅
 ビル5F \, 大阪市中央区\, 大阪府\, 日本;X-APPLE-RADIUS=100;X-T
 ITLE=【大阪】アクセア本町会議室:geo:34.6848894,135.5010545999
 9997
END:VEVENT
BEGIN:VTIMEZONE
TZID:Asia/Tokyo
X-LIC-LOCATION:Asia/Tokyo
BEGIN:STANDARD
DTSTART:20171110T140000
TZOFFSETFROM:+0900
TZOFFSETTO:+0900
TZNAME:JST
END:STANDARD
END:VTIMEZONE
END:VCALENDAR