BEGIN:VCALENDAR
VERSION:2.0
PRODID:-//wp-events-plugin.com//7.2.3.1//EN
BEGIN:VEVENT
UID:177@teamedia.co.jp
DTSTART;TZID=Asia/Tokyo:20190707T130000
DTEND;TZID=Asia/Tokyo:20190707T150000
DTSTAMP:20190707T014254Z
URL:https://www.teamedia.co.jp/events/how-to-buy-2019-hiroshima-20190707-p
 m/
SUMMARY:セミナー「台湾でお茶を買うノウハウ2019（実践編
 ）」（広島・7月7日PM）
DESCRIPTION:\n\n日本からの海外旅行先として急浮上中の台
 湾。\n台湾のお土産の定番といえば、烏龍茶に代表され
 る「台湾茶」です。\n\n今回の講座では、台湾茶初心者
 の方から、よりディープな美味しいお茶を求める方ま
 で。\n台湾茶の経験値別に、美味しいお店の探し方、購
 入の仕方をご紹介します。\n\n実際に台湾で購入できる
 お茶を数多く試飲していただきますので、次回の旅行
 からすぐに役立つと思います。\n※講師の以下のブログ
 記事を実践的にした講座です。\n台湾でお茶を買うノウ
 ハウ2018\n\n※レジュメには、呪文のような台湾茶を読み
 解く、台湾茶頻出用語集も付いています。\n\n&nbsp\;\n＜
 当日試飲するお茶＞\n\n5種類のタイプの異なる台湾茶を
 試飲いただきます。\n清香、濃香、生茶、軽火、蜜香\n\
 nそれぞれ、講師もしくはアシスタントが淹れて提供し
 ます。\n&nbsp\;\n\n＜日時＞　2019年7月7日(日)　13:00-15:00　
 （開場12:45）\n\n＜会場＞　お茶の時間 雲間　　広島市
 中区白島北町16-22 横林ビル1F\n\n＜会費＞　4\,000円　※
 当日申し受けます。\n\n＜定員＞　12名　（現在の残席
 ：[event]#_AVAILABLESPACES[/event] 席）\n\n&nbsp\;
ATTACH;FMTTYPE=image/jpeg:https://www.teamedia.co.jp/wp-content/uploads/20
 19/02/how-to-buy.jpg
CATEGORIES:セミナー
LOCATION:【広島】お茶の時間　雲間\, 白島北町16-22 横林ビ
 ル1F\, 広島市中区\, 広島県\, 日本
GEO:34.40839649999999;132.46232020000002
X-APPLE-STRUCTURED-LOCATION;VALUE=URI;X-ADDRESS=白島北町16-22 横林ビ
 ル1F\, 広島市中区\, 広島県\, 日本;X-APPLE-RADIUS=100;X-TITLE=
 【広島】お茶の時間　雲間:geo:34.40839649999999,132.46232020000
 002
END:VEVENT
BEGIN:VTIMEZONE
TZID:Asia/Tokyo
X-LIC-LOCATION:Asia/Tokyo
BEGIN:STANDARD
DTSTART:20180707T130000
TZOFFSETFROM:+0900
TZOFFSETTO:+0900
TZNAME:JST
END:STANDARD
END:VTIMEZONE
END:VCALENDAR