BEGIN:VCALENDAR
VERSION:2.0
PRODID:-//wp-events-plugin.com//7.2.3.1//EN
BEGIN:VEVENT
UID:106@teamedia.co.jp
DTSTART;TZID=Asia/Tokyo:20180731T140000
DTEND;TZID=Asia/Tokyo:20180731T160000
DTSTAMP:20180607T013926Z
URL:https://www.teamedia.co.jp/events/taiwantea2018spring-tokyo-180731-pm/
SUMMARY:ワークショップ「新茶を飲む・台湾茶2018春～初夏
 」（東京・7月31日PM）
DESCRIPTION:\n\nワークショップ「新茶を飲む」は、文字通
 り、できたての新茶を味わっていただくイベントです
 。\n\n毎回、届きたての新茶を、テーマを持って飲みく
 らべていきます。\n第2回となる今回は、台湾の2018年春
 ～初夏のお茶をメインに扱います。\n\n今回の飲み比べ
 テーマとして、「品種」の違いを検証してみたいと思
 います。\nまず、多くの高山茶で中心になっている青心
 烏龍のほか、台茶12号（金萱）、台茶13号（翠玉）、四
 季春の比較を行います。\n鉄観音も鉄観音品種で作られ
 た、いわゆる正叢鉄観音と金萱種を用い鉄観音製法で
 作られたものを比較いただきます。\n東方美人茶につい
 ても、主要産地である桃竹苗地区（桃園・新竹・苗栗
 ）で主力品種となっている青心大冇のほか、新北市地
 区で用いられる青心烏龍の比較に加え、珍しい杉林渓
 地区で試験的に作られた青心烏龍種の東方美人もお試
 しいただきます。\n\nこれらに加えて、文山包種茶の2018
 年春の品評会受賞茶もお楽しみいただく予定です。\n\n
 様々な台湾茶を、一度に味わっていただけますので、
 ぜひご参加下さい。\n\n&nbsp\;\n＜当日飲みくらべる予定
 のお茶＞　※印は、2017年の冬茶・冬片\n\n※四季春茶（
 南投県）\n※翠玉茶（南投県）\n阿里山金萱茶（嘉義県
 ）\n\n阿里山烏龍茶（嘉義県）\n杉林渓烏龍茶（嘉義県
 ）\n梨山烏龍茶（南投県）\n\n正叢鉄観音\n鉄観音（金萱
 種）\n\n文山包種茶（2018年春・貳等賞）\n\n東方美人茶
 （新北市）\n東方美人茶（南投県）\n東方美人茶（新竹
 県）\n&nbsp\;\n\n＜日時＞　2018年7月31日(火)　14:00-16:00　
 （開場13:45）\n\n＜会場＞　中央区立産業会館　４階　
 第2集会室　東京都中央区東日本橋2-22-4\n\n＜会費＞　5\,
 000円　※当日申し受けます。\n\n＜定員＞　18名　（現
 在の残席：[event]#_AVAILABLESPACES[/event] 席）\n\n&nbsp\;
ATTACH;FMTTYPE=image/jpeg:https://www.teamedia.co.jp/wp-content/uploads/20
 18/06/taiwan-tea.jpg
CATEGORIES:セミナー
LOCATION:【東京】中央区立産業会館\, 東日本橋2-22-4　4階\,
  中央区\, 東京都\, 103-0004\, 日本
GEO:35.6940176;139.78712919999998
X-APPLE-STRUCTURED-LOCATION;VALUE=URI;X-ADDRESS=東日本橋2-22-4　4階\,
  中央区\, 東京都\, 103-0004\, 日本;X-APPLE-RADIUS=100;X-TITLE=【
 東京】中央区立産業会館:geo:35.6940176,139.78712919999998
END:VEVENT
BEGIN:VTIMEZONE
TZID:Asia/Tokyo
X-LIC-LOCATION:Asia/Tokyo
BEGIN:STANDARD
DTSTART:20170731T140000
TZOFFSETFROM:+0900
TZOFFSETTO:+0900
TZNAME:JST
END:STANDARD
END:VTIMEZONE
END:VCALENDAR